Workbook

Sheet Data Guidance
B2: Lancet Countdown Report Data
B3: Report | C3: The 2026 global report of the Lancet Countdown on health and climate change
B4: Indicator | C4: Indicator 3.5.1: Healthcare Sector Emissions and Damages
B5: Indicator Authors | C5: Prof Matthew Eckelman, Dr Jodi Sherman
B7: 1. Report Key Findings
B8: Since 2016, global healthcare GHG emissions have increased by 26% in total and 17% per capita, but 41 countries have seen reductions in absolute emissions.
B10: 2.1 Indicator Description
B11: This indicator models emissions from the global healthcare sector by use of environmentally extended multi-region input-output models combined with data on healthcare expenditure from World Health Organization. It matches per-capita greenhouse gas emissions data with the United Nations Development Programme Human Development Index to report healthcare-associated greenhouse gas emissions per capita per year, including direct emissions from healthcare facilities as well as emissions from the production of goods and services supplied by sectors in the healthcare supply chain. The indicator also estimates healthcare-related emissions of PM2.5 and ozone precursors, and estimates their potential damages to public health as measured in disability-adjusted life-years (DALYs) lost due to air pollution exposures. Caveats: Since only total health expenditure data is available from World Health Organization, expenditures could not be separated as demand vs investment. Multi-Regional Input Output models are built from aggregated top-down statistical data – as such results do not reflect individual healthcare systems’ power purchase agreements for renewable energy or offsetting activities. Results do not include direct emissions of waste anaesthetic gases from clinical operations or emissions from metered-dose inhalers since these are not currently reported consistently in national emissions inventories.
B13: 2.2 Data Licence
D14: This data, and associated data visualisations, are provided at no-cost under a Creative Commons Attribution-Non Commercial-Share Alike License (CC BY-NC-SA 4.0). Before you use the data contained within this spreadsheet, you must ensure that you fully understand the terms and conditions of this license by reviewing the description at https://creativecommons.org/licenses/by-nc-sa/4.0/ Lancet Countdown, and associated indicator authors, expect attribution for any of its databases in accordance with good scientific practice. In particular, under CC BY-NC-SA: Attribution — You must give appropriate credit, provide a link to the license, and indicate if changes were made. You may do so in any reasonable manner, but not in any way that suggests the licensor endorses you or your use. Non Commercial — You may not use the material for commercial purposes. Share Alike — If you remix, transform, or build upon the material, you must distribute your contributions under the same license as the original. No additional restrictions — You may not apply legal terms or technological measures that legally restrict others from doing anything the license permits. For further information, please contact Marina Romanello: m.romanello@ucl.ac.uk
B16: 2.3 Contributing Datasources
B17: The data produced by third parties and made available by Lancet Countdown is subject to the license terms from the original third-party authors. We will always indicate the original source of the data in our documentation, so you should always check the license of any such third-party data before use and redistribution: 1. Environmentally extended multi-region input-output tables: EXIOBASE v3.9.6 model for years 2016-2023. 2. Life Expectancy at Birth from the World Health Organization Global Health Observatory; the latest reporting year is 2021. 3. Per capita health expenditure data is from the World Health Organization’s Global Health Expenditure Database; the latest reporting year is 2023. 4. UN Sustainable Development Goal Indicator 3.8.1 Coverage of Essential Health Services from the World Health Organization’s Global Health Observatory; the latest reporting year is 2021.
B19: 2.4 Description of the Columns in Worksheets
B20: Column | D20: Column Header | E20: Units | F20: Description
B21: A | D21: Country | F21: Country name
B22: B | D22: ISO3 | F22: Country three-letter ISO identification code
B23: C | D23: Lancet Countdown Region | F23: Lancet Countdown region
B24: D | D24: WHO Region | F24: World Health Organization region
B25: E | D25: HDI Level | F25: 2025 Human Development Index level
B26: F | D26: Year | F26: Year
B27: G | D27: Population | E27: people (thousands) | F27: Population in given country in given year
B28: H | D28: Total Healthcare GHG Emissions | E28: megatons CO2 equivalents | F28: Total greenhouse gas (GHG) emissions from national healthcare sector consumption
B29: I | D29: Healthcare GHG Emissions | E29: kilograms CO2 equivalents per capita | F29: Per capita GHG emissions from national healthcare sector consumption
B30: J | D30: Healthcare DALYs Total | E30: disability-adjusted life-years (DALYs) | F30: Total public health damages due to PM2.5 and O3 pollution from national healthcare sector consumption
B32: 2.5 How to Interpret Missing Data
B33: Data is shared at the highest resolution possible while ensuring data quality. The absence of country-level results for some regions may indicate a lack of high-quality data at a fine scale in that region in the input-output model that was used. Some countries might therefore only be included as an aggregated value in one of the regional sheets. Country-level results might also be due to a lack of reporting on healthcare expenditures to WHO. Please note that estimated values are more uncertain for smaller areas, and all estimated values should be interpreted carefully. ‘0’ represents the numerical value, blank space indicates that no data was available and N/A that the value could not be calculated. UN territories have been used. The Lancet Countdown takes a neutral position with respect to territorial claims in territorial designations and institutional affiliations. The HDI groupings represent United Nations Development Programme's Human Development Index scores (2025 update).
B38: 3. Suggested Citation
B39: Romanello M, Walawender M, Israelsson J et al. The 2026 report of the Lancet Countdown on health and climate change: A decade of escalating health harms and a decisive moment for all. The Lancet 2026; published online October 2026. https://doi.org/10.1016/S0140-6736(26)01779-4

Sheet Global
A1: Year | B1: Population | C1: Healthcare GHG Emissions Total Mt | D1: Healthcare GHG Emissions kg per capita | E1: Healthcare DALYs Total
A2: 2016 | B2: =SUMIF(Country!$G$2:$G$1553,Global!A2,Country!$F$2:$F$1553) -> 7448864.2 | C2: =SUMIF(Country!$G$2:$G$1553,Global!A2,Country!$H$2:$H$1553) -> 1440.8685 | D2: =(C2*1000000000)/(B2*1000) -> 193.43466 | E2: =SUMIF(Country!$G$2:$G$1553,Global!A2,Country!$J$2:$J$1553) -> 1396237.4
A3: 2017 | B3: =SUMIF(Country!$G$2:$G$1553,Global!A3,Country!$F$2:$F$1553) -> 7545905.7 | C3: =SUMIF(Country!$G$2:$G$1553,Global!A3,Country!$H$2:$H$1553) -> 1503.861 | D3: =(C3*1000000000)/(B3*1000) -> 199.29496 | E3: =SUMIF(Country!$G$2:$G$1553,Global!A3,Country!$J$2:$J$1553) -> 1569934.5
A4: 2018 | B4: =SUMIF(Country!$G$2:$G$1553,Global!A4,Country!$F$2:$F$1553) -> 7660459.9 | C4: =SUMIF(Country!$G$2:$G$1553,Global!A4,Country!$H$2:$H$1553) -> 1482.7984 | D4: =(C4*1000000000)/(B4*1000) -> 193.56519 | E4: =SUMIF(Country!$G$2:$G$1553,Global!A4,Country!$J$2:$J$1553) -> 1438355.8
A5: 2019 | B5: =SUMIF(Country!$G$2:$G$1553,Global!A5,Country!$F$2:$F$1553) -> 7741693.1 | C5: =SUMIF(Country!$G$2:$G$1553,Global!A5,Country!$H$2:$H$1553) -> 1650.2621 | D5: =(C5*1000000000)/(B5*1000) -> 213.16553 | E5: =SUMIF(Country!$G$2:$G$1553,Global!A5,Country!$J$2:$J$1553) -> 1533891.8
A6: 2020 | B6: =SUMIF(Country!$G$2:$G$1553,Global!A6,Country!$F$2:$F$1553) -> 7817840.4 | C6: =SUMIF(Country!$G$2:$G$1553,Global!A6,Country!$H$2:$H$1553) -> 1591.8174 | D6: =(C6*1000000000)/(B6*1000) -> 203.61344 | E6: =SUMIF(Country!$G$2:$G$1553,Global!A6,Country!$J$2:$J$1553) -> 1691469.1
A7: 2021 | B7: =SUMIF(Country!$G$2:$G$1553,Global!A7,Country!$F$2:$F$1553) -> 7884175.4 | C7: =SUMIF(Country!$G$2:$G$1553,Global!A7,Country!$H$2:$H$1553) -> 1691.0765 | D7: =(C7*1000000000)/(B7*1000) -> 214.48996 | E7: =SUMIF(Country!$G$2:$G$1553,Global!A7,Country!$J$2:$J$1553) -> 1797208.5
A8: 2022 | B8: =SUMIF(Country!$G$2:$G$1553,Global!A8,Country!$F$2:$F$1553) -> 7949626.5 | C8: =SUMIF(Country!$G$2:$G$1553,Global!A8,Country!$H$2:$H$1553) -> 1723.884 | D8: =(C8*1000000000)/(B8*1000) -> 216.85095 | E8: =SUMIF(Country!$G$2:$G$1553,Global!A8,Country!$J$2:$J$1553) -> 1841705
A9: 2023 | B9: =SUMIF(Country!$G$2:$G$1553,Global!A9,Country!$F$2:$F$1553) -> 8020288.3 | C9: =SUMIF(Country!$G$2:$G$1553,Global!A9,Country!$H$2:$H$1553) -> 1807.7615 | D9: =(C9*1000000000)/(B9*1000) -> 225.39856 | E9: =SUMIF(Country!$G$2:$G$1553,Global!A9,Country!$J$2:$J$1553) -> 1937670.9

Sheet Country
A1: ISO3 Code | B1: Country | C1: Lancet Countdown Region | D1: WHO Region | E1: HDI Level | F1: Population | G1: Year | H1: Healthcare GHG Emissions Total Mt | I1: Healthcare GHG Emissions kg per capita | J1: Healthcare DALYs Total
A2: AFG | B2: Afghanistan | C2: Asia | D2: Eastern Mediterranean | E2: Low | F2: 34700.612 | G2: 2016 | H2: 0.53558663 | I2: 15.434501 | J2: 764.06501
A3: AFG | B3: Afghanistan | C3: Asia | D3: Eastern Mediterranean | E3: Low | F3: 35688.935 | G3: 2017 | H3: 1.3493993 | I3: 37.810018 | J3: 1720.5931
A4: AFG | B4: Afghanistan | C4: Asia | D4: Eastern Mediterranean | E4: Low | F4: 36743.039 | G4: 2018 | H4: 0.91315404 | I4: 24.852437 | J4: 1160.9905
A5: AFG | B5: Afghanistan | C5: Asia | D5: Eastern Mediterranean | E5: Low | F5: 37856.121 | G5: 2019 | H5: 0.79573008 | I5: 21.019852 | J5: 1076.1983
A6: AFG | B6: Afghanistan | C6: Asia | D6: Eastern Mediterranean | E6: Low | F6: 39068.979 | G6: 2020 | H6: 0.80556155 | I6: 20.618956 | J6: 999.0137
A7: AFG | B7: Afghanistan | C7: Asia | D7: Eastern Mediterranean | E7: Low | F7: 40000.412 | G7: 2021 | H7: 0.95320768 | I7: 23.829947 | J7: 1182.1164
A8: AFG | B8: Afghanistan | C8: Asia | D8: Eastern Mediterranean | E8: Low | F8: 40578.842 | G8: 2022 | H8: 0.95936748 | I8: 23.642061 | J8: 1189.7554
A9: AFG | B9: Afghanistan | C9: Asia | D9: Eastern Mediterranean | E9: Low | F9: 41454.761 | G9: 2023 | H9: 0.63681147 | I9: 15.3616 | J9: 789.73904
A10: AGO | B10: Angola | C10: Africa | D10: Africa | E10: Medium | F10: 29183.07 | G10: 2016 | H10: 0.85963064 | I10: 29.456484 | J10: 1934.5692
A11: AGO | B11: Angola | C11: Africa | D11: Africa | E11: Medium | F11: 30234.839 | G11: 2017 | H11: 1.1787521 | I11: 38.986551 | J11: 2873.8382
A12: AGO | B12: Angola | C12: Africa | D12: Africa | E12: Medium | F12: 31297.155 | G12: 2018 | H12: 0.70144151 | I12: 22.412309 | J12: 1594.985
A13: AGO | B13: Angola | C13: Africa | D13: Africa | E13: Medium | F13: 32375.633 | G13: 2019 | H13: 0.99857043 | I13: 30.843271 | J13: 2286.0242
... A297: COG | B297: Congo | C297: Africa | D297: Africa | E297: Medium | F297: 6182.885 | G297: 2023 | H297: 0.20890758 | I297: 33.788043 | J297: 372.07823
A298: COK | B298: Cook Islands | C298: SIDS | D298: Western Pacific | F298: 17.333 | G298: 2016 | H298: 0.0035594889 | I298: 205.35908 | J298: 4.7611359
A299: COK | B299: Cook Islands | C299: SIDS | D299: Western Pacific | F299: 17.047 | G299: 2017 | H299: 0.0030251049 | I299: 177.45673 | J299: 3.5306796
A300: COK | B300: Cook Islands | C300: SIDS | D300: Western Pacific | F300: 16.597 | G300: 2018 | H300: 0.0027750327 | I300: 167.20086 | J300: 3.5888644
A301: COK | B301: Cook Islands | C301: SIDS | D301: Western Pacific | F301: 16.129 | G301: 2019 | H301: 0.0025284339 | I301: 156.76321 | J301: 2.8515363
A302: COK | B302: Cook Islands | C302: SIDS | D302: Western Pacific | F302: 15.644 | G302: 2020 | H302: 0.00583142 | I302: 372.75761 | J302: 7.9173797
A303: COK | B303: Cook Islands | C303: SIDS | D303: Western Pacific | F303: 15.183 | G303: 2021 | H303: 0.0062384013 | I303: 410.88068 | J303: 8.4699353
A304: COK | B304: Cook Islands | C304: SIDS | D304: Western Pacific | F304: 14.724 | G304: 2022 | H304: 0.006747394 | I304: 458.25819 | J304: 9.1609884
A305: COK | B305: Cook Islands | C305: SIDS | D305: Western Pacific | F305: 14.222 | G305: 2023 | H305: 0.006162233 | I305: 433.28878 | J305: 8.3667959
A306: COL | B306: Colombia | C306: Latin America | D306: Americas | E306: High | F306: 47437.512 | G306: 2016 | H306: 3.7169053 | I306: 78.353716 | J306: 6054.2415
A307: COL | B307: Colombia | C307: Latin America | D307: Americas | E307: High | F307: 48131.078 | G307: 2017 | H307: 3.5324638 | I307: 73.392576 | J307: 5550.0837
A308: COL | B308: Colombia | C308: Latin America | D308: Americas | E308: High | F308: 49024.466 | G308: 2018 | H308: 3.1149789 | I308: 63.539273 | J308: 4625.2351
A309: COL | B309: Colombia | C309: Latin America | D309: Americas | E309: High | F309: 49907.985 | G309: 2019 | H309: 3.617027 | I309: 72.473915 | J309: 5338.0944
A310: COL | B310: Colombia | C310: Latin America | D310: Americas | E310: High | F310: 50629.998 | G310: 2020 | H310: 3.4066388 | I310: 67.284987 | J310: 4862.7121
A311: COL | B311: Colombia | C311: Latin America | D311: Americas | E311: High | F311: 51188.174 | G311: 2021 | H311: 3.967283 | I311: 77.503897 | J311: 5662.9883
A312: COL | B312: Colombia | C312: Latin America | D312: Americas | E312: High | F312: 51737.944 | G312: 2022 | H312: 3.5355151 | I312: 68.335051 | J312: 5046.6732
A313: COL | B313: Colombia | C313: Latin America | D313: Americas | E313: High | F313: 52321.153 | G313: 2023 | H313: 3.8271589 | I313: 73.147449 | J313: 5462.972
A314: COM | B314: Comoros | C314: SIDS | D314: Africa | E314: Medium | F314: 741.741 | G314: 2016 | H314: 0.014764629 | I314: 19.90537 | J314: 33.227291
A315: COM | B315: Comoros | C315: SIDS | D315: Africa | E315: Medium | F315: 756.67 | G315: 2017 | H315: 0.019625893 | I315: 25.93719 | J315: 47.848571
A316: COM | B316: Comoros | C316: SIDS | D316: Africa | E316: Medium | F316: 771.59 | G316: 2018 | H316: 0.015440823 | I316: 20.011694 | J316: 35.110382
A317: COM | B317: Comoros | C317: SIDS | D317: Africa | E317: Medium | F317: 786.578 | G317: 2019 | H317: 0.029451875 | I317: 37.443044 | J317: 67.424086
... A342: CUB | B342: Cuba | C342: SIDS | D342: Americas | E342: High | F342: 11176.354 | G342: 2020 | H342: 1.9420238 | I342: 173.76184 | J342: 2772.0882
A343: CUB | B343: Cuba | C343: SIDS | D343: Americas | E343: High | F343: 11122.169 | G343: 2021
A344: CUB | B344: Cuba | C344: SIDS | D344: Americas | E344: High | F344: 11059.82 | G344: 2022
A345: CUB | B345: Cuba | C345: SIDS | D345: Americas | E345: High | F345: 11019.931 | G345: 2023
A346: CYP | B346: Cyprus | C346: Asia | D346: Europe | E346: Very High | F346: 863.764 | G346: 2016 | H346: 0.49255932 | I346: 570.24757 | J346: 558.49702
A347: CYP | B347: Cyprus | C347: Asia | D347: Europe | E347: Very High | F347: 869.878 | G347: 2017 | H347: 0.48572921 | I347: 558.38774 | J347: 596.79607
...

Sheet LC Region
A1: Lancet Countdown Region | B1: Population | C1: Year | D1: Healthcare GHG Emissions Total Mt | E1: Healthcare GHG Emissions kg per capita | F1: Healthcare DALYs Total
A2: Africa | B2: =SUMIFS(Country!$F$2:$F$1553,Country!$C$2:$C$1553,A2,Country!$G$2:$G$1553,C2) -> 1234063 | C2: 2016 | D2: =SUMIFS(Country!$H$2:$H$1553,Country!$C$2:$C$1553,A2,Country!$G$2:$G$1553,C2) -> 42.264641 | E2: =(D2*1000000000)/(B2*1000) -> 34.248367 | F2: =SUMIFS(Country!$J$2:$J$1553,Country!$C$2:$C$1553,A2,Country!$G$2:$G$1553,C2) -> 91967.493
A3: Africa | B3: =SUMIFS(Country!$F$2:$F$1553,Country!$C$2:$C$1553,A3,Country!$G$2:$G$1553,C3) -> 1276503.2 | C3: 2017 | D3: =SUMIFS(Country!$H$2:$H$1553,Country!$C$2:$C$1553,A3,Country!$G$2:$G$1553,C3) -> 59.453482 | E3: =(D3*1000000000)/(B3*1000) -> 46.575272 | F3: =SUMIFS(Country!$J$2:$J$1553,Country!$C$2:$C$1553,A3,Country!$G$2:$G$1553,C3) -> 145741.13
A4: Africa | B4: =SUMIFS(Country!$F$2:$F$1553,Country!$C$2:$C$1553,A4,Country!$G$2:$G$1553,C4) -> 1308930.6 | C4: 2018 | D4: =SUMIFS(Country!$H$2:$H$1553,Country!$C$2:$C$1553,A4,Country!$G$2:$G$1553,C4) -> 50.610546 | E4: =(D4*1000000000)/(B4*1000) -> 38.665567 | F4: =SUMIFS(Country!$J$2:$J$1553,Country!$C$2:$C$1553,A4,Country!$G$2:$G$1553,C4) -> 105501.25
A5: Africa | B5: =SUMIFS(Country!$F$2:$F$1553,Country!$C$2:$C$1553,A5,Country!$G$2:$G$1553,C5) -> 1341443.7 | C5: 2019 | D5: =SUMIFS(Country!$H$2:$H$1553,Country!$C$2:$C$1553,A5,Country!$G$2:$G$1553,C5) -> 81.974838 | E5: =(D5*1000000000)/(B5*1000) -> 61.109415 | F5: =SUMIFS(Country!$J$2:$J$1553,Country!$C$2:$C$1553,A5,Country!$G$2:$G$1553,C5) -> 192948.44
A6: Africa | B6: =SUMIFS(Country!$F$2:$F$1553,Country!$C$2:$C$1553,A6,Country!$G$2:$G$1553,C6) -> 1374169.5 | C6: 2020 | D6: =SUMIFS(Country!$H$2:$H$1553,Country!$C$2:$C$1553,A6,Country!$G$2:$G$1553,C6) -> 91.657978 | E6: =(D6*1000000000)/(B6*1000) -> 66.700633 | F6: =SUMIFS(Country!$J$2:$J$1553,Country!$C$2:$C$1553,A6,Country!$G$2:$G$1553,C6) -> 232293.13
A7: Africa | B7: =SUMIFS(Country!$F$2:$F$1553,Country!$C$2:$C$1553,A7,Country!$G$2:$G$1553,C7) -> 1407008.3 | C7: 2021 | D7: =SUMIFS(Country!$H$2:$H$1553,Country!$C$2:$C$1553,A7,Country!$G$2:$G$1553,C7) -> 98.557464 | E7: =(D7*1000000000)/(B7*1000) -> 70.047535 | F7: =SUMIFS(Country!$J$2:$J$1553,Country!$C$2:$C$1553,A7,Country!$G$2:$G$1553,C7) -> 245783.31
A8: Africa | B8: =SUMIFS(Country!$F$2:$F$1553,Country!$C$2:$C$1553,A8,Country!$G$2:$G$1553,C8) -> 1440045.4 | C8: 2022 | D8: =SUMIFS(Country!$H$2:$H$1553,Country!$C$2:$C$1553,A8,Country!$G$2:$G$1553,C8) -> 96.707679 | E8: =(D8*1000000000)/(B8*1000) -> 67.155995 | F8: =SUMIFS(Country!$J$2:$J$1553,Country!$C$2:$C$1553,A8,Country!$G$2:$G$1553,C8) -> 239839.19
A9: Africa | B9: =SUMIFS(Country!$F$2:$F$1553,Country!$C$2:$C$1553,A9,Country!$G$2:$G$1553,C9) -> 1473836.2 | C9: 2023 | D9: =SUMIFS(Country!$H$2:$H$1553,Country!$C$2:$C$1553,A9,Country!$G$2:$G$1553,C9) -> 99.999852 | E9: =(D9*1000000000)/(B9*1000) -> 67.850047 | F9: =SUMIFS(Country!$J$2:$J$1553,Country!$C$2:$C$1553,A9,Country!$G$2:$G$1553,C9) -> 246923.3
A10: Asia | B10: =SUMIFS(Country!$F$2:$F$1553,Country!$C$2:$C$1553,A10,Country!$G$2:$G$1553,C10) -> 4463465.5 | C10: 2016 | D10: =SUMIFS(Country!$H$2:$H$1553,Country!$C$2:$C$1553,A10,Country!$G$2:$G$1553,C10) -> 554.18603 | E10: =(D10*1000000000)/(B10*1000) -> 124.16048 | F10: =SUMIFS(Country!$J$2:$J$1553,Country!$C$2:$C$1553,A10,Country!$G$2:$G$1553,C10) -> 640534.06
A11: Asia | B11: =SUMIFS(Country!$F$2:$F$1553,Country!$C$2:$C$1553,A11,Country!$G$2:$G$1553,C11) -> 4507238.3 | C11: 2017 | D11: =SUMIFS(Country!$H$2:$H$1553,Country!$C$2:$C$1553,A11,Country!$G$2:$G$1553,C11) -> 577.70342 | E11: =(D11*1000000000)/(B11*1000) -> 128.17237 | F11: =SUMIFS(Country!$J$2:$J$1553,Country!$C$2:$C$1553,A11,Country!$G$2:$G$1553,C11) -> 695099.18
A12: Asia | B12: =SUMIFS(Country!$F$2:$F$1553,Country!$C$2:$C$1553,A12,Country!$G$2:$G$1553,C12) -> 4548127.5 | C12: 2018 | D12: =SUMIFS(Country!$H$2:$H$1553,Country!$C$2:$C$1553,A12,Country!$G$2:$G$1553,C12) -> 595.06517 | E12: =(D12*1000000000)/(B12*1000) -> 130.8374 | F12: =SUMIFS(Country!$J$2:$J$1553,Country!$C$2:$C$1553,A12,Country!$G$2:$G$1553,C12) -> 680282.85
A13: Asia | B13: =SUMIFS(Country!$F$2:$F$1553,Country!$C$2:$C$1553,A13,Country!$G$2:$G$1553,C13) -> 4586662 | C13: 2019 | D13: =SUMIFS(Country!$H$2:$H$1553,Country!$C$2:$C$1553,A13,Country!$G$2:$G$1553,C13) -> 758.18185 | E13: =(D13*1000000000)/(B13*1000) -> 165.30144 | F13: =SUMIFS(Country!$J$2:$J$1553,Country!$C$2:$C$1553,A13,Country!$G$2:$G$1553,C13) -> 702264.43
... A57: SIDS | B57: =SUMIFS(Country!$F$2:$F$1553,Country!$C$2:$C$1553,A57,Country!$G$2:$G$1553,C57) -> 67436.454 | C57: 2023 | D57: =SUMIFS(Country!$H$2:$H$1553,Country!$C$2:$C$1553,A57,Country!$G$2:$G$1553,C57) -> 9.5845069 | E57: =(D57*1000000000)/(B57*1000) -> 142.1265 | F57: =SUMIFS(Country!$J$2:$J$1553,Country!$C$2:$C$1553,A57,Country!$G$2:$G$1553,C57) -> 13413.17

Sheet HDI Group
A1: HDI Group | B1: Year | C1: Population | D1: Healthcare GHG Emissions Total Mt | E1: Healthcare GHG Emissions kg per capita | F1: Healthcare DALYs Total
A2: Low | B2: 2016 | C2: =SUMIFS(Country!$F$2:$F$1553,Country!$E$2:$E$1553,A2,Country!$G$2:$G$1553,B2) -> 753550.51 | D2: =SUMIFS(Country!$H$2:$H$1553,Country!$E$2:$E$1553,A2,Country!$G$2:$G$1553,B2) -> 7.827393 | E2: =(D2*1000000000)/(C2*1000) -> 10.38735 | F2: =SUMIFS(Country!$J$2:$J$1553,Country!$E$2:$E$1553,A2,Country!$G$2:$G$1553,B2) -> 14196.129
A3: Low | B3: 2017 | C3: =SUMIFS(Country!$F$2:$F$1553,Country!$E$2:$E$1553,A3,Country!$G$2:$G$1553,B3) -> 783307.29 | D3: =SUMIFS(Country!$H$2:$H$1553,Country!$E$2:$E$1553,A3,Country!$G$2:$G$1553,B3) -> 14.377368 | E3: =(D3*1000000000)/(C3*1000) -> 18.354697 | F3: =SUMIFS(Country!$J$2:$J$1553,Country!$E$2:$E$1553,A3,Country!$G$2:$G$1553,B3) -> 23319.017
A4: Low | B4: 2018 | C4: =SUMIFS(Country!$F$2:$F$1553,Country!$E$2:$E$1553,A4,Country!$G$2:$G$1553,B4) -> 803368 | D4: =SUMIFS(Country!$H$2:$H$1553,Country!$E$2:$E$1553,A4,Country!$G$2:$G$1553,B4) -> 9.8745143 | E4: =(D4*1000000000)/(C4*1000) -> 12.291396 | F4: =SUMIFS(Country!$J$2:$J$1553,Country!$E$2:$E$1553,A4,Country!$G$2:$G$1553,B4) -> 16023.045
A5: Low | B5: 2019 | C5: =SUMIFS(Country!$F$2:$F$1553,Country!$E$2:$E$1553,A5,Country!$G$2:$G$1553,B5) -> 824092.03 | D5: =SUMIFS(Country!$H$2:$H$1553,Country!$E$2:$E$1553,A5,Country!$G$2:$G$1553,B5) -> 10.984023 | E5: =(D5*1000000000)/(C5*1000) -> 13.328636 | F5: =SUMIFS(Country!$J$2:$J$1553,Country!$E$2:$E$1553,A5,Country!$G$2:$G$1553,B5) -> 20974.348
A6: Low | B6: 2020 | C6: =SUMIFS(Country!$F$2:$F$1553,Country!$E$2:$E$1553,A6,Country!$G$2:$G$1553,B6) -> 845519.81 | D6: =SUMIFS(Country!$H$2:$H$1553,Country!$E$2:$E$1553,A6,Country!$G$2:$G$1553,B6) -> 12.817319 | E6: =(D6*1000000000)/(C6*1000) -> 15.1591 | F6: =SUMIFS(Country!$J$2:$J$1553,Country!$E$2:$E$1553,A6,Country!$G$2:$G$1553,B6) -> 20667.617
A7: Low | B7: 2021 | C7: =SUMIFS(Country!$F$2:$F$1553,Country!$E$2:$E$1553,A7,Country!$G$2:$G$1553,B7) -> 867153.12 | D7: =SUMIFS(Country!$H$2:$H$1553,Country!$E$2:$E$1553,A7,Country!$G$2:$G$1553,B7) -> 13.068139 | E7: =(D7*1000000000)/(C7*1000) -> 15.070163 | F7: =SUMIFS(Country!$J$2:$J$1553,Country!$E$2:$E$1553,A7,Country!$G$2:$G$1553,B7) -> 20995.723
A8: Low | B8: 2022 | C8: =SUMIFS(Country!$F$2:$F$1553,Country!$E$2:$E$1553,A8,Country!$G$2:$G$1553,B8) -> 888324.79 | D8: =SUMIFS(Country!$H$2:$H$1553,Country!$E$2:$E$1553,A8,Country!$G$2:$G$1553,B8) -> 13.177228 | E8: =(D8*1000000000)/(C8*1000) -> 14.833795 | F8: =SUMIFS(Country!$J$2:$J$1553,Country!$E$2:$E$1553,A8,Country!$G$2:$G$1553,B8) -> 21183.826
A9: Low | B9: 2023 | C9: =SUMIFS(Country!$F$2:$F$1553,Country!$E$2:$E$1553,A9,Country!$G$2:$G$1553,B9) -> 909789.68 | D9: =SUMIFS(Country!$H$2:$H$1553,Country!$E$2:$E$1553,A9,Country!$G$2:$G$1553,B9) -> 12.642904 | E9: =(D9*1000000000)/(C9*1000) -> 13.896513 | F9: =SUMIFS(Country!$J$2:$J$1553,Country!$E$2:$E$1553,A9,Country!$G$2:$G$1553,B9) -> 20667.569
A10: Medium | B10: 2016 | C10: =SUMIFS(Country!$F$2:$F$1553,Country!$E$2:$E$1553,A10,Country!$G$2:$G$1553,B10) -> 2246271.7 | D10: =SUMIFS(Country!$H$2:$H$1553,Country!$E$2:$E$1553,A10,Country!$G$2:$G$1553,B10) -> 57.843952 | E10: =(D10*1000000000)/(C10*1000) -> 25.751094 | F10: =SUMIFS(Country!$J$2:$J$1553,Country!$E$2:$E$1553,A10,Country!$G$2:$G$1553,B10) -> 79601.557
A11: Medium | B11: 2017 | C11: =SUMIFS(Country!$F$2:$F$1553,Country!$E$2:$E$1553,A11,Country!$G$2:$G$1553,B11) -> 2280131.8 | D11: =SUMIFS(Country!$H$2:$H$1553,Country!$E$2:$E$1553,A11,Country!$G$2:$G$1553,B11) -> 56.271568 | E11: =(D11*1000000000)/(C11*1000) -> 24.679086 | F11: =SUMIFS(Country!$J$2:$J$1553,Country!$E$2:$E$1553,A11,Country!$G$2:$G$1553,B11) -> 80018.763
A12: Medium | B12: 2018 | C12: =SUMIFS(Country!$F$2:$F$1553,Country!$E$2:$E$1553,A12,Country!$G$2:$G$1553,B12) -> 2313369.7 | D12: =SUMIFS(Country!$H$2:$H$1553,Country!$E$2:$E$1553,A12,Country!$G$2:$G$1553,B12) -> 58.908551 | E12: =(D12*1000000000)/(C12*1000) -> 25.464391 | F12: =SUMIFS(Country!$J$2:$J$1553,Country!$E$2:$E$1553,A12,Country!$G$2:$G$1553,B12) -> 77376.957
A13: Medium | B13: 2019 | C13: =SUMIFS(Country!$F$2:$F$1553,Country!$E$2:$E$1553,A13,Country!$G$2:$G$1553,B13) -> 2346594.6 | D13: =SUMIFS(Country!$H$2:$H$1553,Country!$E$2:$E$1553,A13,Country!$G$2:$G$1553,B13) -> 68.914101 | E13: =(D13*1000000000)/(C13*1000) -> 29.367706 | F13: =SUMIFS(Country!$J$2:$J$1553,Country!$E$2:$E$1553,A13,Country!$G$2:$G$1553,B13) -> 101278.73
... A33: Very High | B33: 2023 | C33: =SUMIFS(Country!$F$2:$F$1553,Country!$E$2:$E$1553,A33,Country!$G$2:$G$1553,B33) -> 1596535.7 | D33: =SUMIFS(Country!$H$2:$H$1553,Country!$E$2:$E$1553,A33,Country!$G$2:$G$1553,B33) -> 1000.1075 | E33: =(D33*1000000000)/(C33*1000) -> 626.42354 | F33: =SUMIFS(Country!$J$2:$J$1553,Country!$E$2:$E$1553,A33,Country!$G$2:$G$1553,B33) -> 846743.15
A117: Very High | B117: 2023

Sheet WHO Region
A1: WHO Region | B1: Year | C1: Population | D1: Healthcare GHG Emissions Total Mt | E1: Healthcare GHG Emissions kg per capita | F1: Healthcare DALYs Total
A2: Africa | B2: 2016 | C2: =SUMIFS(Country!$F$2:$F$1553,Country!$D$2:$D$1553,A2,Country!$G$2:$G$1553,B2) -> 1027279.3 | D2: =SUMIFS(Country!$H$2:$H$1553,Country!$D$2:$D$1553,A2,Country!$G$2:$G$1553,B2) -> 35.051828 | E2: =(D2*1000000000)/(C2*1000) -> 34.121029 | F2: =SUMIFS(Country!$J$2:$J$1553,Country!$D$2:$D$1553,A2,Country!$G$2:$G$1553,B2) -> 81942.542
A3: Africa | B3: 2017 | C3: =SUMIFS(Country!$F$2:$F$1553,Country!$D$2:$D$1553,A3,Country!$G$2:$G$1553,B3) -> 1065042.4 | D3: =SUMIFS(Country!$H$2:$H$1553,Country!$D$2:$D$1553,A3,Country!$G$2:$G$1553,B3) -> 45.230338 | E3: =(D3*1000000000)/(C3*1000) -> 42.468112 | F3: =SUMIFS(Country!$J$2:$J$1553,Country!$D$2:$D$1553,A3,Country!$G$2:$G$1553,B3) -> 128054.28
A4: Africa | B4: 2018 | C4: =SUMIFS(Country!$F$2:$F$1553,Country!$D$2:$D$1553,A4,Country!$G$2:$G$1553,B4) -> 1092860.5 | D4: =SUMIFS(Country!$H$2:$H$1553,Country!$D$2:$D$1553,A4,Country!$G$2:$G$1553,B4) -> 41.578974 | E4: =(D4*1000000000)/(C4*1000) -> 38.046003 | F4: =SUMIFS(Country!$J$2:$J$1553,Country!$D$2:$D$1553,A4,Country!$G$2:$G$1553,B4) -> 94340.917
A5: Africa | B5: 2019 | C5: =SUMIFS(Country!$F$2:$F$1553,Country!$D$2:$D$1553,A5,Country!$G$2:$G$1553,B5) -> 1121071.3 | D5: =SUMIFS(Country!$H$2:$H$1553,Country!$D$2:$D$1553,A5,Country!$G$2:$G$1553,B5) -> 74.058781 | E5: =(D5*1000000000)/(C5*1000) -> 66.060721 | F5: =SUMIFS(Country!$J$2:$J$1553,Country!$D$2:$D$1553,A5,Country!$G$2:$G$1553,B5) -> 182780.63
A6: Africa | B6: 2020 | C6: =SUMIFS(Country!$F$2:$F$1553,Country!$D$2:$D$1553,A6,Country!$G$2:$G$1553,B6) -> 1149656.2 | D6: =SUMIFS(Country!$H$2:$H$1553,Country!$D$2:$D$1553,A6,Country!$G$2:$G$1553,B6) -> 84.349475 | E6: =(D6*1000000000)/(C6*1000) -> 73.369306 | F6: =SUMIFS(Country!$J$2:$J$1553,Country!$D$2:$D$1553,A6,Country!$G$2:$G$1553,B6) -> 223583.51
A7: Africa | B7: 2021 | C7: =SUMIFS(Country!$F$2:$F$1553,Country!$D$2:$D$1553,A7,Country!$G$2:$G$1553,B7) -> 1178471.7 | D7: =SUMIFS(Country!$H$2:$H$1553,Country!$D$2:$D$1553,A7,Country!$G$2:$G$1553,B7) -> 89.691507 | E7: =(D7*1000000000)/(C7*1000) -> 76.108324 | F7: =SUMIFS(Country!$J$2:$J$1553,Country!$D$2:$D$1553,A7,Country!$G$2:$G$1553,B7) -> 235162.96
A8: Africa | B8: 2022 | C8: =SUMIFS(Country!$F$2:$F$1553,Country!$D$2:$D$1553,A8,Country!$G$2:$G$1553,B8) -> 1207520 | D8: =SUMIFS(Country!$H$2:$H$1553,Country!$D$2:$D$1553,A8,Country!$G$2:$G$1553,B8) -> 87.416732 | E8: =(D8*1000000000)/(C8*1000) -> 72.393611 | F8: =SUMIFS(Country!$J$2:$J$1553,Country!$D$2:$D$1553,A8,Country!$G$2:$G$1553,B8) -> 228704.72
A9: Africa | B9: 2023 | C9: =SUMIFS(Country!$F$2:$F$1553,Country!$D$2:$D$1553,A9,Country!$G$2:$G$1553,B9) -> 1237685.9 | D9: =SUMIFS(Country!$H$2:$H$1553,Country!$D$2:$D$1553,A9,Country!$G$2:$G$1553,B9) -> 89.433467 | E9: =(D9*1000000000)/(C9*1000) -> 72.258613 | F9: =SUMIFS(Country!$J$2:$J$1553,Country!$D$2:$D$1553,A9,Country!$G$2:$G$1553,B9) -> 234190.26
A10: Americas | B10: 2016 | C10: =SUMIFS(Country!$F$2:$F$1553,Country!$D$2:$D$1553,A10,Country!$G$2:$G$1553,B10) -> 955520.92 | D10: =SUMIFS(Country!$H$2:$H$1553,Country!$D$2:$D$1553,A10,Country!$G$2:$G$1553,B10) -> 536.82407 | E10: =(D10*1000000000)/(C10*1000) -> 561.81299 | F10: =SUMIFS(Country!$J$2:$J$1553,Country!$D$2:$D$1553,A10,Country!$G$2:$G$1553,B10) -> 395345.43
A11: Americas | B11: 2017 | C11: =SUMIFS(Country!$F$2:$F$1553,Country!$D$2:$D$1553,A11,Country!$G$2:$G$1553,B11) -> 964951.45 | D11: =SUMIFS(Country!$H$2:$H$1553,Country!$D$2:$D$1553,A11,Country!$G$2:$G$1553,B11) -> 557.01639 | E11: =(D11*1000000000)/(C11*1000) -> 577.2481 | F11: =SUMIFS(Country!$J$2:$J$1553,Country!$D$2:$D$1553,A11,Country!$G$2:$G$1553,B11) -> 434568.74
A12: Americas | B12: 2018 | C12: =SUMIFS(Country!$F$2:$F$1553,Country!$D$2:$D$1553,A12,Country!$G$2:$G$1553,B12) -> 1004357.1 | D12: =SUMIFS(Country!$H$2:$H$1553,Country!$D$2:$D$1553,A12,Country!$G$2:$G$1553,B12) -> 512.72149 | E12: =(D12*1000000000)/(C12*1000) -> 510.4972 | F12: =SUMIFS(Country!$J$2:$J$1553,Country!$D$2:$D$1553,A12,Country!$G$2:$G$1553,B12) -> 362217.36
A13: Americas | B13: 2019 | C13: =SUMIFS(Country!$F$2:$F$1553,Country!$D$2:$D$1553,A13,Country!$G$2:$G$1553,B13) -> 1012758.8 | D13: =SUMIFS(Country!$H$2:$H$1553,Country!$D$2:$D$1553,A13,Country!$G$2:$G$1553,B13) -> 518.10365 | E13: =(D13*1000000000)/(C13*1000) -> 511.57658 | F13: =SUMIFS(Country!$J$2:$J$1553,Country!$D$2:$D$1553,A13,Country!$G$2:$G$1553,B13) -> 367604.78
... A49: Western Pacific | B49: 2023 | C49: =SUMIFS(Country!$F$2:$F$1553,Country!$D$2:$D$1553,A49,Country!$G$2:$G$1553,B49) -> 2209752.1 | D49: =SUMIFS(Country!$H$2:$H$1553,Country!$D$2:$D$1553,A49,Country!$G$2:$G$1553,B49) -> 688.55118 | E49: =(D49*1000000000)/(C49*1000) -> 311.59657 | F49: =SUMIFS(Country!$J$2:$J$1553,Country!$D$2:$D$1553,A49,Country!$G$2:$G$1553,B49) -> 776036.85
